BEGIN:VCALENDAR
VERSION:2.0
PRODID:-//Kristofferskolan - ECPv6.15.13//NONSGML v1.0//EN
CALSCALE:GREGORIAN
METHOD:PUBLISH
X-WR-CALNAME:Kristofferskolan
X-ORIGINAL-URL:https://kristofferskolan.se
X-WR-CALDESC:Händelser för Kristofferskolan
REFRESH-INTERVAL;VALUE=DURATION:PT1H
X-Robots-Tag:noindex
X-PUBLISHED-TTL:PT1H
BEGIN:VTIMEZONE
TZID:Europe/Stockholm
BEGIN:DAYLIGHT
TZOFFSETFROM:+0100
TZOFFSETTO:+0200
TZNAME:CEST
DTSTART:20220327T010000
END:DAYLIGHT
BEGIN:STANDARD
TZOFFSETFROM:+0200
TZOFFSETTO:+0100
TZNAME:CET
DTSTART:20221030T010000
END:STANDARD
BEGIN:DAYLIGHT
TZOFFSETFROM:+0100
TZOFFSETTO:+0200
TZNAME:CEST
DTSTART:20230326T010000
END:DAYLIGHT
BEGIN:STANDARD
TZOFFSETFROM:+0200
TZOFFSETTO:+0100
TZNAME:CET
DTSTART:20231029T010000
END:STANDARD
BEGIN:DAYLIGHT
TZOFFSETFROM:+0100
TZOFFSETTO:+0200
TZNAME:CEST
DTSTART:20240331T010000
END:DAYLIGHT
BEGIN:STANDARD
TZOFFSETFROM:+0200
TZOFFSETTO:+0100
TZNAME:CET
DTSTART:20241027T010000
END:STANDARD
END:VTIMEZONE
BEGIN:VEVENT
DTSTART;VALUE=DATE:20231030
DTEND;VALUE=DATE:20231104
DTSTAMP:20260426T044700
CREATED:20230821T191216Z
LAST-MODIFIED:20230821T191216Z
UID:6267-1698624000-1699055999@kristofferskolan.se
SUMMARY:Höstlov vecka 44
DESCRIPTION:
URL:https://kristofferskolan.se/kalendarium/hostlov-vecka-44-6/
END:VEVENT
BEGIN:VEVENT
DTSTART;VALUE=DATE:20231118
DTEND;VALUE=DATE:20231119
DTSTAMP:20260426T044700
CREATED:20230822T092600Z
LAST-MODIFIED:20231012T061739Z
UID:6278-1700265600-1700351999@kristofferskolan.se
SUMMARY:Novemberfest
DESCRIPTION:
URL:https://kristofferskolan.se/kalendarium/novemberfest-6/
END:VEVENT
BEGIN:VEVENT
DTSTART;VALUE=DATE:20231119
DTEND;VALUE=DATE:20231120
DTSTAMP:20260426T044700
CREATED:20230822T092631Z
LAST-MODIFIED:20231012T061848Z
UID:6280-1700352000-1700438399@kristofferskolan.se
SUMMARY:Novemberfest
DESCRIPTION:
URL:https://kristofferskolan.se/kalendarium/novemberfest-7/
END:VEVENT
BEGIN:VEVENT
DTSTART;VALUE=DATE:20231120
DTEND;VALUE=DATE:20231121
DTSTAMP:20260426T044700
CREATED:20230822T092727Z
LAST-MODIFIED:20230822T092727Z
UID:6282-1700438400-1700524799@kristofferskolan.se
SUMMARY:Studiedag
DESCRIPTION:
URL:https://kristofferskolan.se/kalendarium/studiedag-12/
END:VEVENT
BEGIN:VEVENT
DTSTART;VALUE=DATE:20231121
DTEND;VALUE=DATE:20231124
DTSTAMP:20260426T044700
CREATED:20231113T163532Z
LAST-MODIFIED:20231113T163532Z
UID:6397-1700524800-1700783999@kristofferskolan.se
SUMMARY:Gymnasiemässan
DESCRIPTION:Kom och träffa oss på Gymnasiemässan 21-23 november 2023 på Stockholmsmässan i Älvsjö!! \nMera info: https://www.gymnasiemassan.nu/
URL:https://kristofferskolan.se/kalendarium/gymnasiemassan-2/
END:VEVENT
END:VCALENDAR