BEGIN:VCALENDAR
VERSION:2.0
PRODID:-//Kristofferskolan - ECPv6.15.13//NONSGML v1.0//EN
CALSCALE:GREGORIAN
METHOD:PUBLISH
X-WR-CALNAME:Kristofferskolan
X-ORIGINAL-URL:https://kristofferskolan.se
X-WR-CALDESC:Händelser för Kristofferskolan
REFRESH-INTERVAL;VALUE=DURATION:PT1H
X-Robots-Tag:noindex
X-PUBLISHED-TTL:PT1H
BEGIN:VTIMEZONE
TZID:Europe/Stockholm
BEGIN:DAYLIGHT
TZOFFSETFROM:+0100
TZOFFSETTO:+0200
TZNAME:CEST
DTSTART:20190331T010000
END:DAYLIGHT
BEGIN:STANDARD
TZOFFSETFROM:+0200
TZOFFSETTO:+0100
TZNAME:CET
DTSTART:20191027T010000
END:STANDARD
BEGIN:DAYLIGHT
TZOFFSETFROM:+0100
TZOFFSETTO:+0200
TZNAME:CEST
DTSTART:20200329T010000
END:DAYLIGHT
BEGIN:STANDARD
TZOFFSETFROM:+0200
TZOFFSETTO:+0100
TZNAME:CET
DTSTART:20201025T010000
END:STANDARD
BEGIN:DAYLIGHT
TZOFFSETFROM:+0100
TZOFFSETTO:+0200
TZNAME:CEST
DTSTART:20210328T010000
END:DAYLIGHT
BEGIN:STANDARD
TZOFFSETFROM:+0200
TZOFFSETTO:+0100
TZNAME:CET
DTSTART:20211031T010000
END:STANDARD
END:VTIMEZONE
BEGIN:VEVENT
DTSTART;VALUE=DATE:20200108
DTEND;VALUE=DATE:20200109
DTSTAMP:20260425T181000
CREATED:20190814T180231Z
LAST-MODIFIED:20190814T180231Z
UID:3728-1578441600-1578527999@kristofferskolan.se
SUMMARY:Terminstart
DESCRIPTION:
URL:https://kristofferskolan.se/kalendarium/terminstart-2/
END:VEVENT
BEGIN:VEVENT
DTSTART;TZID=Europe/Stockholm:20200115T180000
DTEND;TZID=Europe/Stockholm:20200115T200000
DTSTAMP:20260425T181000
CREATED:20191209T123026Z
LAST-MODIFIED:20191209T123951Z
UID:4080-1579111200-1579118400@kristofferskolan.se
SUMMARY:Skärmtid och digital stress /Kristofferskolans föräldraförening
DESCRIPTION:Agora kristoffer: Tema skärmtid och digital stress
URL:https://kristofferskolan.se/kalendarium/skarmtid-och-digitalstress/
END:VEVENT
BEGIN:VEVENT
DTSTART;VALUE=DATE:20200121
DTEND;VALUE=DATE:20200122
DTSTAMP:20260425T181000
CREATED:20190829T092015Z
LAST-MODIFIED:20190829T092138Z
UID:3778-1579564800-1579651199@kristofferskolan.se
SUMMARY:Vinterfriluftsdag för åk 9-12
DESCRIPTION:För närmare information fråga idrottslärarna Ebba\, ebba.hedberg@kristofferskolan.se och Milos\, Milos.Krstic@kristofferskolan.se
URL:https://kristofferskolan.se/kalendarium/vinterfriluftsdag-far-ak-9-12/
END:VEVENT
BEGIN:VEVENT
DTSTART;VALUE=DATE:20200130
DTEND;VALUE=DATE:20200201
DTSTAMP:20260425T181000
CREATED:20190814T180408Z
LAST-MODIFIED:20190814T180408Z
UID:3730-1580342400-1580515199@kristofferskolan.se
SUMMARY:Waldorflärarmöte
DESCRIPTION:
URL:https://kristofferskolan.se/kalendarium/waldorflararmote/
END:VEVENT
END:VCALENDAR