BEGIN:VCALENDAR
VERSION:2.0
PRODID:-//Kristofferskolan - ECPv6.15.13//NONSGML v1.0//EN
CALSCALE:GREGORIAN
METHOD:PUBLISH
X-ORIGINAL-URL:https://kristofferskolan.se
X-WR-CALDESC:Händelser för Kristofferskolan
REFRESH-INTERVAL;VALUE=DURATION:PT1H
X-Robots-Tag:noindex
X-PUBLISHED-TTL:PT1H
BEGIN:VTIMEZONE
TZID:Europe/Stockholm
BEGIN:DAYLIGHT
TZOFFSETFROM:+0100
TZOFFSETTO:+0200
TZNAME:CEST
DTSTART:20180325T010000
END:DAYLIGHT
BEGIN:STANDARD
TZOFFSETFROM:+0200
TZOFFSETTO:+0100
TZNAME:CET
DTSTART:20181028T010000
END:STANDARD
BEGIN:DAYLIGHT
TZOFFSETFROM:+0100
TZOFFSETTO:+0200
TZNAME:CEST
DTSTART:20190331T010000
END:DAYLIGHT
BEGIN:STANDARD
TZOFFSETFROM:+0200
TZOFFSETTO:+0100
TZNAME:CET
DTSTART:20191027T010000
END:STANDARD
BEGIN:DAYLIGHT
TZOFFSETFROM:+0100
TZOFFSETTO:+0200
TZNAME:CEST
DTSTART:20200329T010000
END:DAYLIGHT
BEGIN:STANDARD
TZOFFSETFROM:+0200
TZOFFSETTO:+0100
TZNAME:CET
DTSTART:20201025T010000
END:STANDARD
END:VTIMEZONE
BEGIN:VEVENT
DTSTART;VALUE=DATE:20191202
DTEND;VALUE=DATE:20191203
DTSTAMP:20260425T222728
CREATED:20190814T175934Z
LAST-MODIFIED:20190814T175934Z
UID:3722-1575244800-1575331199@kristofferskolan.se
SUMMARY:Adventsmorgon
DESCRIPTION:
URL:https://kristofferskolan.se/kalendarium/adventsmorgon-3/
END:VEVENT
BEGIN:VEVENT
DTSTART;TZID=Europe/Stockholm:20191206T190000
DTEND;TZID=Europe/Stockholm:20191206T200000
DTSTAMP:20260425T222728
CREATED:20191202T151031Z
LAST-MODIFIED:20191202T152456Z
UID:4062-1575658800-1575662400@kristofferskolan.se
SUMMARY:12B presenterar Invasion av Jonas Hassen Khemiri
DESCRIPTION:Klass 12B presenterar Invasion av Jonas Hassan Khemiri på..\nFredag 6/12 klockan 13.00 och 19.00 \nLördag 7/12 klockan 18.00 \nSöndag 8/12 klockan 14.00 \nMåndag 9/12 klockan 8.15 och 13.00 i stora salen
URL:https://kristofferskolan.se/kalendarium/12b-presenterar-invasion-av-jonas-hassen-khemiri/
END:VEVENT
BEGIN:VEVENT
DTSTART;TZID=Europe/Stockholm:20191207T180000
DTEND;TZID=Europe/Stockholm:20191207T200000
DTSTAMP:20260425T222728
CREATED:20191202T152111Z
LAST-MODIFIED:20191202T152143Z
UID:4070-1575741600-1575748800@kristofferskolan.se
SUMMARY:Invasion
DESCRIPTION:Klass 12B presenterar Invasion av Jonas Hassan Khemiri på..\nFredag 6/12 klockan 13.00 och 19.00 \nLördag 7/12 klockan 18.00 \nSöndag 8/12 klockan 14.00 \nMåndag 9/12 klockan 8.15 och 13.00 i stora salen
URL:https://kristofferskolan.se/kalendarium/invasion-2/
END:VEVENT
BEGIN:VEVENT
DTSTART;TZID=Europe/Stockholm:20191208T140000
DTEND;TZID=Europe/Stockholm:20191208T160000
DTSTAMP:20260425T222728
CREATED:20191202T152241Z
LAST-MODIFIED:20191202T152241Z
UID:4072-1575813600-1575820800@kristofferskolan.se
SUMMARY:Invasion
DESCRIPTION:Klass 12B presenterar Invasion av Jonas Hassan Khemiri på..\nFredag 6/12 klockan 13.00 och 19.00 \nLördag 7/12 klockan 18.00 \nSöndag 8/12 klockan 14.00 \nMåndag 9/12 klockan 8.15 och 13.00 i stora salen
URL:https://kristofferskolan.se/kalendarium/invasion-3/
END:VEVENT
BEGIN:VEVENT
DTSTART;VALUE=DATE:20191213
DTEND;VALUE=DATE:20191214
DTSTAMP:20260425T222728
CREATED:20190814T180010Z
LAST-MODIFIED:20190814T180010Z
UID:3724-1576195200-1576281599@kristofferskolan.se
SUMMARY:Luciafirande
DESCRIPTION:
URL:https://kristofferskolan.se/kalendarium/luciafirande-2/
END:VEVENT
BEGIN:VEVENT
DTSTART;TZID=Europe/Stockholm:20191217T170000
DTEND;TZID=Europe/Stockholm:20191217T190000
DTSTAMP:20260425T222728
CREATED:20191216T090444Z
LAST-MODIFIED:20191216T092502Z
UID:4090-1576602000-1576609200@kristofferskolan.se
SUMMARY:Julspelet från Oberufer
DESCRIPTION:
URL:https://kristofferskolan.se/kalendarium/julspelen-fran-oberufen/
END:VEVENT
BEGIN:VEVENT
DTSTART;TZID=Europe/Stockholm:20191219T100000
DTEND;TZID=Europe/Stockholm:20191219T120000
DTSTAMP:20260425T222728
CREATED:20190814T180124Z
LAST-MODIFIED:20191216T161431Z
UID:3726-1576749600-1576756800@kristofferskolan.se
SUMMARY:Julavslutning
DESCRIPTION:Program för julavslutningen\n\nOrkester spelar till den gemensamma sången Nu tändas tusen juleljus\n \n9b visar eurytmi till Marche Funébre av Chopin \n \nKlass 3b framför en instrumental låt\n \nEurytmi av klass 5a och c \n \nKlass 1 sjunger The happiest Christmas tree och Det strålar en stjärna\n \nÅrets Pepparkakshustävling presenteras\n\n \nKlass 5A och klass 4A dansar och spelar tillsammans!\n \nKlass 6C framför eurytmi\, till stycket  ”Time Lapse” av Michael Nyman.. 2\,5 min långt (Mervin och Helena)\n \nKlass 3a gestaltar en del av Skapelseberättelsen\n\n \nGymnasiekören sjunger:\n– In this heart – Sinnead O’Connor  (4 minuter)\n– Det är en ros utsprungen \n(sjungs även av hela salen)
URL:https://kristofferskolan.se/kalendarium/julavslutning-3/
END:VEVENT
END:VCALENDAR