BEGIN:VCALENDAR
VERSION:2.0
PRODID:-//Kristofferskolan - ECPv6.15.13//NONSGML v1.0//EN
CALSCALE:GREGORIAN
METHOD:PUBLISH
X-WR-CALNAME:Kristofferskolan
X-ORIGINAL-URL:https://kristofferskolan.se
X-WR-CALDESC:Händelser för Kristofferskolan
REFRESH-INTERVAL;VALUE=DURATION:PT1H
X-Robots-Tag:noindex
X-PUBLISHED-TTL:PT1H
BEGIN:VTIMEZONE
TZID:Europe/Stockholm
BEGIN:DAYLIGHT
TZOFFSETFROM:+0100
TZOFFSETTO:+0200
TZNAME:CEST
DTSTART:20180325T010000
END:DAYLIGHT
BEGIN:STANDARD
TZOFFSETFROM:+0200
TZOFFSETTO:+0100
TZNAME:CET
DTSTART:20181028T010000
END:STANDARD
BEGIN:DAYLIGHT
TZOFFSETFROM:+0100
TZOFFSETTO:+0200
TZNAME:CEST
DTSTART:20190331T010000
END:DAYLIGHT
BEGIN:STANDARD
TZOFFSETFROM:+0200
TZOFFSETTO:+0100
TZNAME:CET
DTSTART:20191027T010000
END:STANDARD
BEGIN:DAYLIGHT
TZOFFSETFROM:+0100
TZOFFSETTO:+0200
TZNAME:CEST
DTSTART:20200329T010000
END:DAYLIGHT
BEGIN:STANDARD
TZOFFSETFROM:+0200
TZOFFSETTO:+0100
TZNAME:CET
DTSTART:20201025T010000
END:STANDARD
END:VTIMEZONE
BEGIN:VEVENT
DTSTART;VALUE=DATE:20190606
DTEND;VALUE=DATE:20190607
DTSTAMP:20260426T052840
CREATED:20180817T064655Z
LAST-MODIFIED:20180817T064655Z
UID:2764-1559779200-1559865599@kristofferskolan.se
SUMMARY:Nationaldagen
DESCRIPTION:Ledigt
URL:https://kristofferskolan.se/kalendarium/nationaldagen-3/
END:VEVENT
BEGIN:VEVENT
DTSTART;VALUE=DATE:20190611
DTEND;VALUE=DATE:20190612
DTSTAMP:20260426T052840
CREATED:20180817T065010Z
LAST-MODIFIED:20180817T065010Z
UID:2770-1560211200-1560297599@kristofferskolan.se
SUMMARY:Sommaravslutning
DESCRIPTION:
URL:https://kristofferskolan.se/kalendarium/sommaravslutning-2/
END:VEVENT
BEGIN:VEVENT
DTSTART;VALUE=DATE:20190612
DTEND;VALUE=DATE:20190614
DTSTAMP:20260426T052840
CREATED:20190312T213344Z
LAST-MODIFIED:20190604T214506Z
UID:3460-1560297600-1560470399@kristofferskolan.se
SUMMARY:Fritids har stängt
DESCRIPTION:Fritids har stängt 12-13 juni 2019 för återblicksdagar. \nFritids har stängt vecka 27-31\, alltså blir sista dagen vi har öppet 28 juni 2019. \nFritids öppnar igen 5 augusti 2019\, men har stängt 12-14 augusti för planering. \n 
URL:https://kristofferskolan.se/kalendarium/fritids-har-stangt/
END:VEVENT
END:VCALENDAR