BEGIN:VCALENDAR
VERSION:2.0
PRODID:-//Kristofferskolan - ECPv6.15.13//NONSGML v1.0//EN
CALSCALE:GREGORIAN
METHOD:PUBLISH
X-ORIGINAL-URL:https://kristofferskolan.se
X-WR-CALDESC:Händelser för Kristofferskolan
REFRESH-INTERVAL;VALUE=DURATION:PT1H
X-Robots-Tag:noindex
X-PUBLISHED-TTL:PT1H
BEGIN:VTIMEZONE
TZID:Europe/Stockholm
BEGIN:DAYLIGHT
TZOFFSETFROM:+0100
TZOFFSETTO:+0200
TZNAME:CEST
DTSTART:20220327T010000
END:DAYLIGHT
BEGIN:STANDARD
TZOFFSETFROM:+0200
TZOFFSETTO:+0100
TZNAME:CET
DTSTART:20221030T010000
END:STANDARD
BEGIN:DAYLIGHT
TZOFFSETFROM:+0100
TZOFFSETTO:+0200
TZNAME:CEST
DTSTART:20230326T010000
END:DAYLIGHT
BEGIN:STANDARD
TZOFFSETFROM:+0200
TZOFFSETTO:+0100
TZNAME:CET
DTSTART:20231029T010000
END:STANDARD
BEGIN:DAYLIGHT
TZOFFSETFROM:+0100
TZOFFSETTO:+0200
TZNAME:CEST
DTSTART:20240331T010000
END:DAYLIGHT
BEGIN:STANDARD
TZOFFSETFROM:+0200
TZOFFSETTO:+0100
TZNAME:CET
DTSTART:20241027T010000
END:STANDARD
BEGIN:DAYLIGHT
TZOFFSETFROM:+0100
TZOFFSETTO:+0200
TZNAME:CEST
DTSTART:20250330T010000
END:DAYLIGHT
BEGIN:STANDARD
TZOFFSETFROM:+0200
TZOFFSETTO:+0100
TZNAME:CET
DTSTART:20251026T010000
END:STANDARD
END:VTIMEZONE
BEGIN:VEVENT
DTSTART;TZID=Europe/Stockholm:20230205T130000
DTEND;TZID=Europe/Stockholm:20230205T144500
DTSTAMP:20260424T002029
CREATED:20230124T173610Z
LAST-MODIFIED:20230202T115214Z
UID:6003-1675602000-1675608300@kristofferskolan.se
SUMMARY:Tintomara 12B
DESCRIPTION:
URL:https://kristofferskolan.se/kalendarium/tintomara-12b-2/
END:VEVENT
BEGIN:VEVENT
DTSTART;VALUE=DATE:20230213
DTEND;VALUE=DATE:20230225
DTSTAMP:20260424T002029
CREATED:20230217T123227Z
LAST-MODIFIED:20230217T123252Z
UID:6058-1676246400-1677283199@kristofferskolan.se
SUMMARY:Temaveckor
DESCRIPTION:
URL:https://kristofferskolan.se/kalendarium/temaveckor-2/
END:VEVENT
BEGIN:VEVENT
DTSTART;VALUE=DATE:20230227
DTEND;VALUE=DATE:20230304
DTSTAMP:20260424T002029
CREATED:20220902T121503Z
LAST-MODIFIED:20220902T121507Z
UID:5661-1677456000-1677887999@kristofferskolan.se
SUMMARY:Sportlov vecka 9
DESCRIPTION:
URL:https://kristofferskolan.se/kalendarium/sportlov-vecka-9-6/
END:VEVENT
BEGIN:VEVENT
DTSTART;TZID=Europe/Stockholm:20230309T160000
DTEND;TZID=Europe/Stockholm:20230309T180000
DTSTAMP:20260424T002029
CREATED:20230125T072853Z
LAST-MODIFIED:20230307T132403Z
UID:6006-1678377600-1678384800@kristofferskolan.se
SUMMARY:Antagning/Workshop gymnasiet
DESCRIPTION:Till dig som söker till Kristofferskolans gymnasium 2023 \nFör att vara behörig till Kristofferskolan måste man utöver grundläggande behörighet även få minst godkänt på antagningsprovet. \nVi på Kristofferskolan ser antagningsproven som ett utmärkt tillfälle att lära känna våra blivande elever – men också som en chans att presentera vår skola och vår kunskapssyn för de elever som söker sig till oss. \nProven är utformade just för detta ändamål. De ger dig möjlighet att visa hur du arbetar\, både enskilt och i grupp\, och samtidigt pröva på hur våra arbetsuppgifter kan se ut. \n\n\n\n\nSök till gymnasiet här…\n\n\n\n\n\nInlämningsuppgift\nDin uppgift är att göra en bild\, en tolkning\, utifrån textutdraget ur Aniara (se baksidan) i valfri tvådimensionell teknik\, t.ex. teckning\, målning\, collage\, grafik etc. Bilden kan vara en illustration av texten eller en fri tolkning. Minimiformat A3\, maxformat 50×70 cm. \nTa med dig din bild till workshopen. \nWorkshop torsdag 9 mars 2023 klockan 16.00. Vi samlas i stora salen.
URL:https://kristofferskolan.se/kalendarium/workshop-antagning/
END:VEVENT
BEGIN:VEVENT
DTSTART;TZID=Europe/Stockholm:20230315T160000
DTEND;TZID=Europe/Stockholm:20230315T183000
DTSTAMP:20260424T002029
CREATED:20230313T153816Z
LAST-MODIFIED:20230313T154607Z
UID:6094-1678896000-1678905000@kristofferskolan.se
SUMMARY:Redovisning Gymnasiearbeten årskurs 12
DESCRIPTION:Se programmet för redovisningar här:…
URL:https://kristofferskolan.se/kalendarium/redovisning-gymnasiearbeten-arskurs-12/
END:VEVENT
BEGIN:VEVENT
DTSTART;TZID=Europe/Stockholm:20230316T150000
DTEND;TZID=Europe/Stockholm:20230316T183000
DTSTAMP:20260424T002029
CREATED:20230313T154308Z
LAST-MODIFIED:20230313T154517Z
UID:6100-1678978800-1678991400@kristofferskolan.se
SUMMARY:Redovisning Gymnasiearbeten årskurs 12
DESCRIPTION:Se programmet för redovisningarna här…
URL:https://kristofferskolan.se/kalendarium/redovisning-gymnasiearbeten-arskurs-12-2/
END:VEVENT
BEGIN:VEVENT
DTSTART;TZID=Europe/Stockholm:20230331T190000
DTEND;TZID=Europe/Stockholm:20230331T210000
DTSTAMP:20260424T002029
CREATED:20230326T170203Z
LAST-MODIFIED:20230326T173817Z
UID:6117-1680289200-1680296400@kristofferskolan.se
SUMMARY:8A presenterar: Macbeth\, en pjäs av William Shakespeare!
DESCRIPTION:
URL:https://kristofferskolan.se/kalendarium/macbeth-8a/
END:VEVENT
BEGIN:VEVENT
DTSTART;TZID=Europe/Stockholm:20230401T130000
DTEND;TZID=Europe/Stockholm:20230401T150000
DTSTAMP:20260424T002029
CREATED:20230326T170324Z
LAST-MODIFIED:20230326T170324Z
UID:6119-1680354000-1680361200@kristofferskolan.se
SUMMARY:Macbeth 8A
DESCRIPTION:
URL:https://kristofferskolan.se/kalendarium/macbeth-8a-2/
END:VEVENT
BEGIN:VEVENT
DTSTART;TZID=Europe/Stockholm:20230401T180000
DTEND;TZID=Europe/Stockholm:20230401T200000
DTSTAMP:20260424T002029
CREATED:20230326T170522Z
LAST-MODIFIED:20230326T170522Z
UID:6123-1680372000-1680379200@kristofferskolan.se
SUMMARY:Macbeth 8A
DESCRIPTION:
URL:https://kristofferskolan.se/kalendarium/macbeth-8a-4/
END:VEVENT
BEGIN:VEVENT
DTSTART;TZID=Europe/Stockholm:20230404T120000
DTEND;TZID=Europe/Stockholm:20230404T140000
DTSTAMP:20260424T002029
CREATED:20220902T121700Z
LAST-MODIFIED:20221110T203218Z
UID:5665-1680609600-1680616800@kristofferskolan.se
SUMMARY:Halv studiedag
DESCRIPTION:
URL:https://kristofferskolan.se/kalendarium/halv-studiedag-9/
END:VEVENT
BEGIN:VEVENT
DTSTART;VALUE=DATE:20230411
DTEND;VALUE=DATE:20230415
DTSTAMP:20260424T002029
CREATED:20220902T121751Z
LAST-MODIFIED:20220902T121751Z
UID:5667-1681171200-1681516799@kristofferskolan.se
SUMMARY:Påsklov vecka 15
DESCRIPTION:
URL:https://kristofferskolan.se/kalendarium/pasklov-vecka-15-2/
END:VEVENT
BEGIN:VEVENT
DTSTART;VALUE=DATE:20230419
DTEND;VALUE=DATE:20230420
DTSTAMP:20260424T002029
CREATED:20220902T121910Z
LAST-MODIFIED:20220902T121910Z
UID:5669-1681862400-1681948799@kristofferskolan.se
SUMMARY:Halv studiedag
DESCRIPTION:
URL:https://kristofferskolan.se/kalendarium/halv-studiedag-10/
END:VEVENT
BEGIN:VEVENT
DTSTART;VALUE=DATE:20230519
DTEND;VALUE=DATE:20230520
DTSTAMP:20260424T002029
CREATED:20220902T121958Z
LAST-MODIFIED:20220902T121958Z
UID:5671-1684454400-1684540799@kristofferskolan.se
SUMMARY:Lovdag
DESCRIPTION:
URL:https://kristofferskolan.se/kalendarium/lovdag/
END:VEVENT
BEGIN:VEVENT
DTSTART;VALUE=DATE:20230605
DTEND;VALUE=DATE:20230606
DTSTAMP:20260424T002029
CREATED:20220902T122038Z
LAST-MODIFIED:20220902T122042Z
UID:5673-1685923200-1686009599@kristofferskolan.se
SUMMARY:Lovdag
DESCRIPTION:
URL:https://kristofferskolan.se/kalendarium/lovdag-2/
END:VEVENT
BEGIN:VEVENT
DTSTART;VALUE=DATE:20230613
DTEND;VALUE=DATE:20230614
DTSTAMP:20260424T002029
CREATED:20220902T122118Z
LAST-MODIFIED:20220902T122118Z
UID:5675-1686614400-1686700799@kristofferskolan.se
SUMMARY:Skolavslutning
DESCRIPTION:
URL:https://kristofferskolan.se/kalendarium/skolavslutning-5/
END:VEVENT
BEGIN:VEVENT
DTSTART;TZID=Europe/Stockholm:20230821T100000
DTEND;TZID=Europe/Stockholm:20230821T120000
DTSTAMP:20260424T002029
CREATED:20230418T143557Z
LAST-MODIFIED:20230816T174031Z
UID:6135-1692612000-1692619200@kristofferskolan.se
SUMMARY:Skolstart/Upprop
DESCRIPTION:
URL:https://kristofferskolan.se/kalendarium/skolstart-6/
END:VEVENT
BEGIN:VEVENT
DTSTART;VALUE=DATE:20230929
DTEND;VALUE=DATE:20230930
DTSTAMP:20260424T002029
CREATED:20230822T091659Z
LAST-MODIFIED:20230822T092330Z
UID:6270-1695945600-1695945600@kristofferskolan.se
SUMMARY:Mikaeli
DESCRIPTION:
URL:https://kristofferskolan.se/kalendarium/mikaeli-3/
END:VEVENT
BEGIN:VEVENT
DTSTART;TZID=Europe/Stockholm:20230929T160000
DTEND;TZID=Europe/Stockholm:20230929T190000
DTSTAMP:20260424T002029
CREATED:20230822T092250Z
LAST-MODIFIED:20230822T092250Z
UID:6274-1696003200-1696014000@kristofferskolan.se
SUMMARY:Markens grödas skördefest
DESCRIPTION:
URL:https://kristofferskolan.se/kalendarium/markens-grodas-skordefest/
END:VEVENT
BEGIN:VEVENT
DTSTART;TZID=Europe/Stockholm:20231020T190000
DTEND;TZID=Europe/Stockholm:20231020T210000
DTSTAMP:20260424T002029
CREATED:20231012T092645Z
LAST-MODIFIED:20231016T202845Z
UID:6363-1697828400-1697835600@kristofferskolan.se
SUMMARY:Sotarbarn / Premiären slutsåld!!
DESCRIPTION:
URL:https://kristofferskolan.se/kalendarium/sotarbarn-premiar/
END:VEVENT
BEGIN:VEVENT
DTSTART;TZID=Europe/Stockholm:20231021T180000
DTEND;TZID=Europe/Stockholm:20231021T200000
DTSTAMP:20260424T002029
CREATED:20231016T203004Z
LAST-MODIFIED:20231016T203004Z
UID:6374-1697911200-1697918400@kristofferskolan.se
SUMMARY:Sotarbarn
DESCRIPTION:
URL:https://kristofferskolan.se/kalendarium/sotarbarn/
END:VEVENT
BEGIN:VEVENT
DTSTART;TZID=Europe/Stockholm:20231022T130000
DTEND;TZID=Europe/Stockholm:20231022T150000
DTSTAMP:20260424T002029
CREATED:20231016T203054Z
LAST-MODIFIED:20231016T203119Z
UID:6376-1697979600-1697986800@kristofferskolan.se
SUMMARY:Sotarbarn
DESCRIPTION:
URL:https://kristofferskolan.se/kalendarium/sotarbarn-2/
END:VEVENT
BEGIN:VEVENT
DTSTART;TZID=Europe/Stockholm:20231025T123000
DTEND;TZID=Europe/Stockholm:20231025T160000
DTSTAMP:20260424T002029
CREATED:20230822T092510Z
LAST-MODIFIED:20230822T092510Z
UID:6276-1698237000-1698249600@kristofferskolan.se
SUMMARY:Halv studiedag
DESCRIPTION:
URL:https://kristofferskolan.se/kalendarium/halv-studiedag-11/
END:VEVENT
BEGIN:VEVENT
DTSTART;VALUE=DATE:20231030
DTEND;VALUE=DATE:20231104
DTSTAMP:20260424T002029
CREATED:20230821T191216Z
LAST-MODIFIED:20230821T191216Z
UID:6267-1698624000-1699055999@kristofferskolan.se
SUMMARY:Höstlov vecka 44
DESCRIPTION:
URL:https://kristofferskolan.se/kalendarium/hostlov-vecka-44-6/
END:VEVENT
BEGIN:VEVENT
DTSTART;VALUE=DATE:20231118
DTEND;VALUE=DATE:20231119
DTSTAMP:20260424T002029
CREATED:20230822T092600Z
LAST-MODIFIED:20231012T061739Z
UID:6278-1700265600-1700351999@kristofferskolan.se
SUMMARY:Novemberfest
DESCRIPTION:
URL:https://kristofferskolan.se/kalendarium/novemberfest-6/
END:VEVENT
BEGIN:VEVENT
DTSTART;VALUE=DATE:20231119
DTEND;VALUE=DATE:20231120
DTSTAMP:20260424T002029
CREATED:20230822T092631Z
LAST-MODIFIED:20231012T061848Z
UID:6280-1700352000-1700438399@kristofferskolan.se
SUMMARY:Novemberfest
DESCRIPTION:
URL:https://kristofferskolan.se/kalendarium/novemberfest-7/
END:VEVENT
BEGIN:VEVENT
DTSTART;VALUE=DATE:20231120
DTEND;VALUE=DATE:20231121
DTSTAMP:20260424T002029
CREATED:20230822T092727Z
LAST-MODIFIED:20230822T092727Z
UID:6282-1700438400-1700524799@kristofferskolan.se
SUMMARY:Studiedag
DESCRIPTION:
URL:https://kristofferskolan.se/kalendarium/studiedag-12/
END:VEVENT
BEGIN:VEVENT
DTSTART;VALUE=DATE:20231121
DTEND;VALUE=DATE:20231124
DTSTAMP:20260424T002029
CREATED:20231113T163532Z
LAST-MODIFIED:20231113T163532Z
UID:6397-1700524800-1700783999@kristofferskolan.se
SUMMARY:Gymnasiemässan
DESCRIPTION:Kom och träffa oss på Gymnasiemässan 21-23 november 2023 på Stockholmsmässan i Älvsjö!! \nMera info: https://www.gymnasiemassan.nu/
URL:https://kristofferskolan.se/kalendarium/gymnasiemassan-2/
END:VEVENT
BEGIN:VEVENT
DTSTART;TZID=Europe/Stockholm:20231207T170000
DTEND;TZID=Europe/Stockholm:20231207T190000
DTSTAMP:20260424T002029
CREATED:20231113T162330Z
LAST-MODIFIED:20231113T162330Z
UID:6394-1701968400-1701975600@kristofferskolan.se
SUMMARY:Öppet hus
DESCRIPTION:Välkomna på Öppet hus 7 december klockan 17-19!\n\n– Träffa lärare och elever\n– Rundvandring i våra vackra lokaler och verkstäder\n– Mer info om programmen\, Samhällsvetenskapligt program\, Naturvetenskapligt program och estetiskt program med Estetisk inriktning och Waldorfprofil
URL:https://kristofferskolan.se/kalendarium/oppet-hus-14/
END:VEVENT
BEGIN:VEVENT
DTSTART;TZID=Europe/Stockholm:20231221T100000
DTEND;TZID=Europe/Stockholm:20231221T120000
DTSTAMP:20260424T002029
CREATED:20230822T092820Z
LAST-MODIFIED:20230822T092820Z
UID:6284-1703152800-1703160000@kristofferskolan.se
SUMMARY:Terminavslutning
DESCRIPTION:
URL:https://kristofferskolan.se/kalendarium/terminavslutning-2/
END:VEVENT
BEGIN:VEVENT
DTSTART;VALUE=DATE:20240108
DTEND;VALUE=DATE:20240109
DTSTAMP:20260424T002029
CREATED:20230822T092905Z
LAST-MODIFIED:20230822T092905Z
UID:6286-1704672000-1704758399@kristofferskolan.se
SUMMARY:Studiedag
DESCRIPTION:
URL:https://kristofferskolan.se/kalendarium/studiedag-13/
END:VEVENT
END:VCALENDAR