BEGIN:VCALENDAR
VERSION:2.0
PRODID:-//Kristofferskolan - ECPv6.15.13//NONSGML v1.0//EN
CALSCALE:GREGORIAN
METHOD:PUBLISH
X-ORIGINAL-URL:https://kristofferskolan.se
X-WR-CALDESC:Händelser för Kristofferskolan
REFRESH-INTERVAL;VALUE=DURATION:PT1H
X-Robots-Tag:noindex
X-PUBLISHED-TTL:PT1H
BEGIN:VTIMEZONE
TZID:Europe/Stockholm
BEGIN:DAYLIGHT
TZOFFSETFROM:+0100
TZOFFSETTO:+0200
TZNAME:CEST
DTSTART:20210328T010000
END:DAYLIGHT
BEGIN:STANDARD
TZOFFSETFROM:+0200
TZOFFSETTO:+0100
TZNAME:CET
DTSTART:20211031T010000
END:STANDARD
BEGIN:DAYLIGHT
TZOFFSETFROM:+0100
TZOFFSETTO:+0200
TZNAME:CEST
DTSTART:20220327T010000
END:DAYLIGHT
BEGIN:STANDARD
TZOFFSETFROM:+0200
TZOFFSETTO:+0100
TZNAME:CET
DTSTART:20221030T010000
END:STANDARD
BEGIN:DAYLIGHT
TZOFFSETFROM:+0100
TZOFFSETTO:+0200
TZNAME:CEST
DTSTART:20230326T010000
END:DAYLIGHT
BEGIN:STANDARD
TZOFFSETFROM:+0200
TZOFFSETTO:+0100
TZNAME:CET
DTSTART:20231029T010000
END:STANDARD
BEGIN:DAYLIGHT
TZOFFSETFROM:+0100
TZOFFSETTO:+0200
TZNAME:CEST
DTSTART:20240331T010000
END:DAYLIGHT
BEGIN:STANDARD
TZOFFSETFROM:+0200
TZOFFSETTO:+0100
TZNAME:CET
DTSTART:20241027T010000
END:STANDARD
END:VTIMEZONE
BEGIN:VEVENT
DTSTART;VALUE=DATE:20220228
DTEND;VALUE=DATE:20220305
DTSTAMP:20260423T104712
CREATED:20210816T163952Z
LAST-MODIFIED:20210816T163952Z
UID:5133-1646006400-1646438399@kristofferskolan.se
SUMMARY:Sportlov vecka 9
DESCRIPTION:
URL:https://kristofferskolan.se/kalendarium/sportlov-vecka-9-5/
END:VEVENT
BEGIN:VEVENT
DTSTART;VALUE=DATE:20220411
DTEND;VALUE=DATE:20220419
DTSTAMP:20260423T104712
CREATED:20210816T163647Z
LAST-MODIFIED:20210816T163647Z
UID:5129-1649635200-1650326399@kristofferskolan.se
SUMMARY:Påsklov vecka 15
DESCRIPTION:
URL:https://kristofferskolan.se/kalendarium/pasklov-vecka-15/
END:VEVENT
BEGIN:VEVENT
DTSTART;VALUE=DATE:20220526
DTEND;VALUE=DATE:20220528
DTSTAMP:20260423T104712
CREATED:20210816T163756Z
LAST-MODIFIED:20210816T163756Z
UID:5131-1653523200-1653695999@kristofferskolan.se
SUMMARY:Kristi himmelsfärdslov
DESCRIPTION:
URL:https://kristofferskolan.se/kalendarium/kristi-himmelsfardslov-4/
END:VEVENT
BEGIN:VEVENT
DTSTART;VALUE=DATE:20220610
DTEND;VALUE=DATE:20220611
DTSTAMP:20260423T104712
CREATED:20220228T120250Z
LAST-MODIFIED:20220228T120250Z
UID:5490-1654819200-1654905599@kristofferskolan.se
SUMMARY:Skolavslutning
DESCRIPTION:
URL:https://kristofferskolan.se/kalendarium/skolavslutning-4/
END:VEVENT
BEGIN:VEVENT
DTSTART;VALUE=DATE:20220818
DTEND;VALUE=DATE:20220819
DTSTAMP:20260423T104712
CREATED:20220504T150730Z
LAST-MODIFIED:20220817T082742Z
UID:5555-1660780800-1660867199@kristofferskolan.se
SUMMARY:Skolstart
DESCRIPTION:Upprop kl 10.00 för åk 1-9 och kl 11.00 för åk 10-12. Tider för förskola fråga respektive pedagog.
URL:https://kristofferskolan.se/kalendarium/skolstart-5/
END:VEVENT
BEGIN:VEVENT
DTSTART;TZID=Europe/Stockholm:20220924T120000
DTEND;TZID=Europe/Stockholm:20220924T140000
DTSTAMP:20260423T104712
CREATED:20220914T142242Z
LAST-MODIFIED:20220914T142242Z
UID:5718-1664020800-1664028000@kristofferskolan.se
SUMMARY:Mordet på orientexpressen av Agatha Christie/manus klass 8D
DESCRIPTION:
URL:https://kristofferskolan.se/kalendarium/mordet-pa-orientexpressen-av-agatha-christiemanus-klass-8d/
END:VEVENT
BEGIN:VEVENT
DTSTART;TZID=Europe/Stockholm:20220924T170000
DTEND;TZID=Europe/Stockholm:20220924T190000
DTSTAMP:20260423T104712
CREATED:20220914T142324Z
LAST-MODIFIED:20220914T142324Z
UID:5720-1664038800-1664046000@kristofferskolan.se
SUMMARY:Mordet på orientexpressen av Agatha Christie/manus klass 8D
DESCRIPTION:
URL:https://kristofferskolan.se/kalendarium/mordet-pa-orientexpressen-av-agatha-christiemanus-klass-8d-2/
END:VEVENT
BEGIN:VEVENT
DTSTART;TZID=Europe/Stockholm:20220925T120000
DTEND;TZID=Europe/Stockholm:20220925T140000
DTSTAMP:20260423T104712
CREATED:20220914T142403Z
LAST-MODIFIED:20220914T142607Z
UID:5722-1664107200-1664114400@kristofferskolan.se
SUMMARY:Mordet på orientexpressen av Agatha Christie/manus klass 8D
DESCRIPTION:
URL:https://kristofferskolan.se/kalendarium/mordet-pa-orientexpressen-av-agatha-christiemanus-klass-8d-3/
END:VEVENT
BEGIN:VEVENT
DTSTART;VALUE=DATE:20220929
DTEND;VALUE=DATE:20220930
DTSTAMP:20260423T104712
CREATED:20220902T120531Z
LAST-MODIFIED:20220902T120531Z
UID:5645-1664409600-1664495999@kristofferskolan.se
SUMMARY:Mikaeli
DESCRIPTION:
URL:https://kristofferskolan.se/kalendarium/mikaeli-2/
END:VEVENT
BEGIN:VEVENT
DTSTART;TZID=Europe/Stockholm:20221021T180000
DTEND;TZID=Europe/Stockholm:20221021T203000
DTSTAMP:20260423T104712
CREATED:20221011T111501Z
LAST-MODIFIED:20221011T112135Z
UID:5767-1666375200-1666384200@kristofferskolan.se
SUMMARY:Sårskorpor 12A
DESCRIPTION:Klass 12B kommer att sälja korv och fika vid varje föreställning! \nVÄLKOMNA!!
URL:https://kristofferskolan.se/kalendarium/sarskorpor-av-maria-blom-med-klass-12a/
END:VEVENT
BEGIN:VEVENT
DTSTART;TZID=Europe/Stockholm:20221022T170000
DTEND;TZID=Europe/Stockholm:20221022T193000
DTSTAMP:20260423T104712
CREATED:20221011T111555Z
LAST-MODIFIED:20221011T112151Z
UID:5769-1666458000-1666467000@kristofferskolan.se
SUMMARY:Sårskorpor 12A
DESCRIPTION:Klass 12B kommer att sälja korv och fika vid varje föreställning! \nVÄLKOMNA!!
URL:https://kristofferskolan.se/kalendarium/sarskorpor-12a/
END:VEVENT
BEGIN:VEVENT
DTSTART;TZID=Europe/Stockholm:20221023T130000
DTEND;TZID=Europe/Stockholm:20221023T153000
DTSTAMP:20260423T104712
CREATED:20221011T111712Z
LAST-MODIFIED:20221011T112205Z
UID:5771-1666530000-1666539000@kristofferskolan.se
SUMMARY:Sårskorpor 12A
DESCRIPTION:Klass 12B kommer att sälja korv och fika vid varje föreställning! \nVÄLKOMNA!!
URL:https://kristofferskolan.se/kalendarium/sarskorpor-12a-2/
END:VEVENT
BEGIN:VEVENT
DTSTART;VALUE=DATE:20221026
DTEND;VALUE=DATE:20221027
DTSTAMP:20260423T104712
CREATED:20220902T120607Z
LAST-MODIFIED:20221003T091921Z
UID:5647-1666742400-1666828799@kristofferskolan.se
SUMMARY:Halv studiedag
DESCRIPTION:
URL:https://kristofferskolan.se/kalendarium/halv-studiedag-7/
END:VEVENT
BEGIN:VEVENT
DTSTART;VALUE=DATE:20221031
DTEND;VALUE=DATE:20221105
DTSTAMP:20260423T104712
CREATED:20220822T192203Z
LAST-MODIFIED:20220822T192203Z
UID:5640-1667174400-1667606399@kristofferskolan.se
SUMMARY:Höstlov vecka 44
DESCRIPTION:
URL:https://kristofferskolan.se/kalendarium/hostlov-vecka-44-5/
END:VEVENT
BEGIN:VEVENT
DTSTART;VALUE=DATE:20221108
DTEND;VALUE=DATE:20221109
DTSTAMP:20260423T104712
CREATED:20220902T120652Z
LAST-MODIFIED:20220902T120655Z
UID:5649-1667865600-1667951999@kristofferskolan.se
SUMMARY:Halv studiedag
DESCRIPTION:
URL:https://kristofferskolan.se/kalendarium/halv-studiedag-8/
END:VEVENT
BEGIN:VEVENT
DTSTART;VALUE=DATE:20221119
DTEND;VALUE=DATE:20221121
DTSTAMP:20260423T104712
CREATED:20220902T121118Z
LAST-MODIFIED:20220902T121118Z
UID:5653-1668816000-1668988799@kristofferskolan.se
SUMMARY:Novemberfest
DESCRIPTION:
URL:https://kristofferskolan.se/kalendarium/novemberfest-5/
END:VEVENT
BEGIN:VEVENT
DTSTART;VALUE=DATE:20221121
DTEND;VALUE=DATE:20221122
DTSTAMP:20260423T104712
CREATED:20220902T121159Z
LAST-MODIFIED:20220902T121159Z
UID:5655-1668988800-1669075199@kristofferskolan.se
SUMMARY:Studiedag
DESCRIPTION:
URL:https://kristofferskolan.se/kalendarium/studiedag-10/
END:VEVENT
BEGIN:VEVENT
DTSTART;TZID=Europe/Stockholm:20221202T190000
DTEND;TZID=Europe/Stockholm:20221202T210000
DTSTAMP:20260423T104712
CREATED:20221201T121644Z
LAST-MODIFIED:20221201T121644Z
UID:5898-1670007600-1670014800@kristofferskolan.se
SUMMARY:En julsaga av Charles Dickens med klass 8B
DESCRIPTION:
URL:https://kristofferskolan.se/kalendarium/en-julsaga-av-charles-dickens-med-klass-8b/
END:VEVENT
BEGIN:VEVENT
DTSTART;TZID=Europe/Stockholm:20221203T140000
DTEND;TZID=Europe/Stockholm:20221203T160000
DTSTAMP:20260423T104712
CREATED:20221201T121739Z
LAST-MODIFIED:20221201T121812Z
UID:5900-1670076000-1670083200@kristofferskolan.se
SUMMARY:En Julsaga av Charles Dickens med klass 8B
DESCRIPTION:
URL:https://kristofferskolan.se/kalendarium/en-julsaga-av-charles-dickens-med-klass-8b-2/
END:VEVENT
BEGIN:VEVENT
DTSTART;TZID=Europe/Stockholm:20221203T180000
DTEND;TZID=Europe/Stockholm:20221203T200000
DTSTAMP:20260423T104712
CREATED:20221201T121926Z
LAST-MODIFIED:20221201T121926Z
UID:5902-1670090400-1670097600@kristofferskolan.se
SUMMARY:En julsaga av Charles Dickens med klass 8B
DESCRIPTION:
URL:https://kristofferskolan.se/kalendarium/en-julsaga-av-charles-dickens-med-klass-8b-3/
END:VEVENT
BEGIN:VEVENT
DTSTART;TZID=Europe/Stockholm:20221208T170000
DTEND;TZID=Europe/Stockholm:20221208T190000
DTSTAMP:20260423T104712
CREATED:20221026T165020Z
LAST-MODIFIED:20221102T222636Z
UID:5808-1670518800-1670526000@kristofferskolan.se
SUMMARY:Öppet hus
DESCRIPTION:
URL:https://kristofferskolan.se/kalendarium/oppet-hus-12/
END:VEVENT
BEGIN:VEVENT
DTSTART;TZID=Europe/Stockholm:20221222T100000
DTEND;TZID=Europe/Stockholm:20221222T120000
DTSTAMP:20260423T104712
CREATED:20220902T120744Z
LAST-MODIFIED:20221110T203446Z
UID:5651-1671703200-1671710400@kristofferskolan.se
SUMMARY:Termin avslutning
DESCRIPTION:
URL:https://kristofferskolan.se/kalendarium/termin-avslutning/
END:VEVENT
BEGIN:VEVENT
DTSTART;VALUE=DATE:20230109
DTEND;VALUE=DATE:20230110
DTSTAMP:20260423T104712
CREATED:20220902T121408Z
LAST-MODIFIED:20220902T121408Z
UID:5659-1673222400-1673308799@kristofferskolan.se
SUMMARY:Studiedag
DESCRIPTION:
URL:https://kristofferskolan.se/kalendarium/studiedag-11/
END:VEVENT
BEGIN:VEVENT
DTSTART;VALUE=DATE:20230110
DTEND;VALUE=DATE:20230111
DTSTAMP:20260423T104712
CREATED:20220902T121337Z
LAST-MODIFIED:20230109T165743Z
UID:5657-1673308800-1673395199@kristofferskolan.se
SUMMARY:Terminstart
DESCRIPTION:
URL:https://kristofferskolan.se/kalendarium/terminstart-4/
END:VEVENT
BEGIN:VEVENT
DTSTART;VALUE=DATE:20230126
DTEND;VALUE=DATE:20230128
DTSTAMP:20260423T104712
CREATED:20220902T121558Z
LAST-MODIFIED:20220902T121558Z
UID:5663-1674691200-1674863999@kristofferskolan.se
SUMMARY:Studiedagar
DESCRIPTION:
URL:https://kristofferskolan.se/kalendarium/studiedagar/
END:VEVENT
BEGIN:VEVENT
DTSTART;TZID=Europe/Stockholm:20230202T170000
DTEND;TZID=Europe/Stockholm:20230202T190000
DTSTAMP:20260423T104712
CREATED:20230124T080203Z
LAST-MODIFIED:20230201T174018Z
UID:5984-1675357200-1675364400@kristofferskolan.se
SUMMARY:Öppet Hus!
DESCRIPTION:Varmt Välkomna till vårt Öppet Hus! \nTorsdag 2 februari-23\, klockan 17-19.\nVåra verkstäder och undervisningssalar är öppna och ni får möjlighet att se en inspirerande lärmiljö med välutrustade lokaler. \nVid huvudentrén hittar ni lärare och elever som guidar er i skolan och berättar om grundskolan och vårt gymnasium \nVi bjuder på utställning av elevarbeten\, öppna undervisningssalar där lärare visar exempel ur undervisningen\, rundvandring\, information och god tid för informella samtal med skolans ledning\, elever och lärare. \n  \nÖppet hus Kristofferskolans grundskola  \nKl. 17.00 öppnar café och informationsdisk vid Stora husets huvudentré. \nKl. 17.30 samt kl. 18.15 i klassrum 7B. Föredrag “Introduktion till Waldorfpedagogiken” med Anna Ljungkvist-Brons\, klasslärare på Kristofferskolan. \nUtställning av elevarbeten i klassrum 8A – möjlighet till samtal och frågor med undervisande lärare. \nÖppet klassrum 0A\, klassrum 3B samt klassrum 8C – möjlighet till samtal och frågor med pedagogerna. \nRundvisning var tionde minut– guidning av pedagoger till de olika stationerna med möjligheter till samtal om waldorfpedagogiken. Utgår från informationsdisken. \n  \nÖppet hus Kristofferskolans gymnasium  \nVarmt välkomna till öppet hus på Kristofferskolan gymnasium! \nGymnasiets olika program håller till i följande salar:\nNaturprogrammet Biologisalen\nEstetprogrammet Bildsalen\nSamhällsprogrammet i 11As klassrum \nRundvisning var tionde minut – guidning av pedagoger till de olika stationerna med möjligheter till samtal om waldorfpedagogiken. Utgår från informationsdisken.
URL:https://kristofferskolan.se/kalendarium/oppet-hus-13/
END:VEVENT
BEGIN:VEVENT
DTSTART;TZID=Europe/Stockholm:20230203T180000
DTEND;TZID=Europe/Stockholm:20230203T194500
DTSTAMP:20260423T104712
CREATED:20230124T173320Z
LAST-MODIFIED:20230202T115354Z
UID:5997-1675447200-1675453500@kristofferskolan.se
SUMMARY:Klass 12B presenterar! Tintomara
DESCRIPTION:
URL:https://kristofferskolan.se/kalendarium/klass-12b-presenterar-tintomara/
END:VEVENT
BEGIN:VEVENT
DTSTART;TZID=Europe/Stockholm:20230204T130000
DTEND;TZID=Europe/Stockholm:20230204T144500
DTSTAMP:20260423T104712
CREATED:20230124T173418Z
LAST-MODIFIED:20230202T115313Z
UID:5999-1675515600-1675521900@kristofferskolan.se
SUMMARY:Tintomara 12B
DESCRIPTION:
URL:https://kristofferskolan.se/kalendarium/tintomara/
END:VEVENT
BEGIN:VEVENT
DTSTART;TZID=Europe/Stockholm:20230204T180000
DTEND;TZID=Europe/Stockholm:20230204T194500
DTSTAMP:20260423T104712
CREATED:20230124T173519Z
LAST-MODIFIED:20230202T115247Z
UID:6001-1675533600-1675539900@kristofferskolan.se
SUMMARY:Tintomara 12B
DESCRIPTION:
URL:https://kristofferskolan.se/kalendarium/tintomara-12b/
END:VEVENT
BEGIN:VEVENT
DTSTART;TZID=Europe/Stockholm:20230205T130000
DTEND;TZID=Europe/Stockholm:20230205T144500
DTSTAMP:20260423T104712
CREATED:20230124T173610Z
LAST-MODIFIED:20230202T115214Z
UID:6003-1675602000-1675608300@kristofferskolan.se
SUMMARY:Tintomara 12B
DESCRIPTION:
URL:https://kristofferskolan.se/kalendarium/tintomara-12b-2/
END:VEVENT
END:VCALENDAR