BEGIN:VCALENDAR
VERSION:2.0
PRODID:-//Kristofferskolan - ECPv6.15.13//NONSGML v1.0//EN
CALSCALE:GREGORIAN
METHOD:PUBLISH
X-ORIGINAL-URL:https://kristofferskolan.se
X-WR-CALDESC:Händelser för Kristofferskolan
REFRESH-INTERVAL;VALUE=DURATION:PT1H
X-Robots-Tag:noindex
X-PUBLISHED-TTL:PT1H
BEGIN:VTIMEZONE
TZID:Europe/Stockholm
BEGIN:DAYLIGHT
TZOFFSETFROM:+0100
TZOFFSETTO:+0200
TZNAME:CEST
DTSTART:20190331T010000
END:DAYLIGHT
BEGIN:STANDARD
TZOFFSETFROM:+0200
TZOFFSETTO:+0100
TZNAME:CET
DTSTART:20191027T010000
END:STANDARD
BEGIN:DAYLIGHT
TZOFFSETFROM:+0100
TZOFFSETTO:+0200
TZNAME:CEST
DTSTART:20200329T010000
END:DAYLIGHT
BEGIN:STANDARD
TZOFFSETFROM:+0200
TZOFFSETTO:+0100
TZNAME:CET
DTSTART:20201025T010000
END:STANDARD
BEGIN:DAYLIGHT
TZOFFSETFROM:+0100
TZOFFSETTO:+0200
TZNAME:CEST
DTSTART:20210328T010000
END:DAYLIGHT
BEGIN:STANDARD
TZOFFSETFROM:+0200
TZOFFSETTO:+0100
TZNAME:CET
DTSTART:20211031T010000
END:STANDARD
BEGIN:DAYLIGHT
TZOFFSETFROM:+0100
TZOFFSETTO:+0200
TZNAME:CEST
DTSTART:20220327T010000
END:DAYLIGHT
BEGIN:STANDARD
TZOFFSETFROM:+0200
TZOFFSETTO:+0100
TZNAME:CET
DTSTART:20221030T010000
END:STANDARD
END:VTIMEZONE
BEGIN:VEVENT
DTSTART;VALUE=DATE:20201121
DTEND;VALUE=DATE:20201123
DTSTAMP:20260425T181358
CREATED:20200817T182711Z
LAST-MODIFIED:20200921T145248Z
UID:4545-1605916800-1606089599@kristofferskolan.se
SUMMARY:Novemberfesten Är skjuten på framtiden - vi avvaktar covid-19 utvecklingen och återkommer med nytt datum!
DESCRIPTION:
URL:https://kristofferskolan.se/kalendarium/novemberfesten-3/
END:VEVENT
BEGIN:VEVENT
DTSTART;VALUE=DATE:20201123
DTEND;VALUE=DATE:20201124
DTSTAMP:20260425T181358
CREATED:20200817T182747Z
LAST-MODIFIED:20200817T182747Z
UID:4547-1606089600-1606175999@kristofferskolan.se
SUMMARY:Studiedag
DESCRIPTION:
URL:https://kristofferskolan.se/kalendarium/studiedag-7/
END:VEVENT
BEGIN:VEVENT
DTSTART;VALUE=DATE:20201126
DTEND;VALUE=DATE:20201127
DTSTAMP:20260425T181358
CREATED:20200817T182835Z
LAST-MODIFIED:20201125T104825Z
UID:4549-1606348800-1606435199@kristofferskolan.se
SUMMARY:OBS!  På grund av rådande omständigheter sker inget Öppet hus digitalt. Detta sker vid ett senare tillfälle. Information publiceras på hemsidan när mer information finns. Öppet hus sker fysiskt 26 november för Kristofferskolans elever i årskurs 9.
DESCRIPTION:Obs! \nPå grund av rådande omständigheter sker inget Öppet hus digitalt. Detta sker vid ett senare tillfälle. Information publiceras på hemsidan när mer information finns. Öppet hus sker fysiskt 26 november för Kristofferskolans elever i årskurs 9.\n 
URL:https://kristofferskolan.se/kalendarium/oppet-hus-9/
END:VEVENT
BEGIN:VEVENT
DTSTART;VALUE=DATE:20201211
DTEND;VALUE=DATE:20201212
DTSTAMP:20260425T181358
CREATED:20200817T182918Z
LAST-MODIFIED:20200817T182918Z
UID:4551-1607644800-1607731199@kristofferskolan.se
SUMMARY:Luciafirande
DESCRIPTION:
URL:https://kristofferskolan.se/kalendarium/luciafirande-3/
END:VEVENT
BEGIN:VEVENT
DTSTART;VALUE=DATE:20201218
DTEND;VALUE=DATE:20201219
DTSTAMP:20260425T181358
CREATED:20200817T182949Z
LAST-MODIFIED:20200817T185027Z
UID:4553-1608249600-1608335999@kristofferskolan.se
SUMMARY:Julavslutning
DESCRIPTION:
URL:https://kristofferskolan.se/kalendarium/julavslutning-4/
END:VEVENT
BEGIN:VEVENT
DTSTART;TZID=Europe/Stockholm:20210111T080000
DTEND;TZID=Europe/Stockholm:20210111T170000
DTSTAMP:20260425T181358
CREATED:20200817T183129Z
LAST-MODIFIED:20200817T183129Z
UID:4555-1610352000-1610384400@kristofferskolan.se
SUMMARY:Vårterminen börjar
DESCRIPTION:
URL:https://kristofferskolan.se/kalendarium/varterminen-borjar-3/
END:VEVENT
BEGIN:VEVENT
DTSTART;TZID=Europe/Stockholm:20210128T080000
DTEND;TZID=Europe/Stockholm:20210129T170000
DTSTAMP:20260425T181358
CREATED:20200817T183235Z
LAST-MODIFIED:20210120T112232Z
UID:4557-1611820800-1611939600@kristofferskolan.se
SUMMARY:Studiedagar
DESCRIPTION:
URL:https://kristofferskolan.se/kalendarium/waldorflararmote-2/
END:VEVENT
BEGIN:VEVENT
DTSTART;TZID=Europe/Stockholm:20210204T170000
DTEND;TZID=Europe/Stockholm:20210204T190000
DTSTAMP:20260425T181358
CREATED:20200817T183329Z
LAST-MODIFIED:20210203T105213Z
UID:4559-1612458000-1612465200@kristofferskolan.se
SUMMARY:Öppet Hus är skjutet till framtiden - vi återkommer med nytt datum!
DESCRIPTION:
URL:https://kristofferskolan.se/kalendarium/oppet-hus-10/
END:VEVENT
BEGIN:VEVENT
DTSTART;TZID=Europe/Stockholm:20210215T080000
DTEND;TZID=Europe/Stockholm:20210226T170000
DTSTAMP:20260425T181358
CREATED:20200817T183456Z
LAST-MODIFIED:20200817T183456Z
UID:4561-1613376000-1614358800@kristofferskolan.se
SUMMARY:Temaveckor vecka 7 och 8
DESCRIPTION:
URL:https://kristofferskolan.se/kalendarium/temaveckor-vecka-7-och-8/
END:VEVENT
BEGIN:VEVENT
DTSTART;TZID=Europe/Stockholm:20210301T080000
DTEND;TZID=Europe/Stockholm:20210305T170000
DTSTAMP:20260425T181358
CREATED:20200817T183557Z
LAST-MODIFIED:20200817T183557Z
UID:4563-1614585600-1614963600@kristofferskolan.se
SUMMARY:Sportlov vecka 9
DESCRIPTION:
URL:https://kristofferskolan.se/kalendarium/sportlov-vecka-9-4/
END:VEVENT
BEGIN:VEVENT
DTSTART;TZID=Europe/Stockholm:20210318T150000
DTEND;TZID=Europe/Stockholm:20210318T170000
DTSTAMP:20260425T181358
CREATED:20210317T163609Z
LAST-MODIFIED:20210317T163632Z
UID:4932-1616079600-1616086800@kristofferskolan.se
SUMMARY:12A Redovisar sina gymnasiearbeten
DESCRIPTION:Meet kod: 12akristofferskolan
URL:https://kristofferskolan.se/kalendarium/12a-redovisar-sina-gymnasiearbeten/
END:VEVENT
BEGIN:VEVENT
DTSTART;TZID=Europe/Stockholm:20210324T150000
DTEND;TZID=Europe/Stockholm:20210324T170000
DTSTAMP:20260425T181358
CREATED:20210317T163917Z
LAST-MODIFIED:20210317T163917Z
UID:4935-1616598000-1616605200@kristofferskolan.se
SUMMARY:12B redovisar sina gymnasiearbeten
DESCRIPTION:
URL:https://kristofferskolan.se/kalendarium/12b-redovisar-sina-gymnasiearbeten/
END:VEVENT
BEGIN:VEVENT
DTSTART;TZID=Europe/Stockholm:20210325T150000
DTEND;TZID=Europe/Stockholm:20210325T170000
DTSTAMP:20260425T181358
CREATED:20210317T164011Z
LAST-MODIFIED:20210317T164011Z
UID:4937-1616684400-1616691600@kristofferskolan.se
SUMMARY:12B redovisar sina gymnasiearbeten
DESCRIPTION:
URL:https://kristofferskolan.se/kalendarium/12b-redovisar-sina-gymnasiearbeten-2/
END:VEVENT
BEGIN:VEVENT
DTSTART;VALUE=DATE:20210330
DTEND;VALUE=DATE:20210331
DTSTAMP:20260425T181358
CREATED:20200817T183814Z
LAST-MODIFIED:20200817T183814Z
UID:4567-1617062400-1617148799@kristofferskolan.se
SUMMARY:Halv studiedag
DESCRIPTION:
URL:https://kristofferskolan.se/kalendarium/halv-studiedag-3/
END:VEVENT
BEGIN:VEVENT
DTSTART;VALUE=DATE:20210402
DTEND;VALUE=DATE:20210410
DTSTAMP:20260425T181358
CREATED:20200817T184205Z
LAST-MODIFIED:20200817T184205Z
UID:4569-1617321600-1618012799@kristofferskolan.se
SUMMARY:Påsklov vecka 14
DESCRIPTION:
URL:https://kristofferskolan.se/kalendarium/pasklov-vecka-14-2/
END:VEVENT
BEGIN:VEVENT
DTSTART;VALUE=DATE:20210414
DTEND;VALUE=DATE:20210415
DTSTAMP:20260425T181358
CREATED:20200817T184302Z
LAST-MODIFIED:20200817T184302Z
UID:4571-1618358400-1618444799@kristofferskolan.se
SUMMARY:Halv studiedag
DESCRIPTION:
URL:https://kristofferskolan.se/kalendarium/halv-studiedag-4/
END:VEVENT
BEGIN:VEVENT
DTSTART;VALUE=DATE:20210513
DTEND;VALUE=DATE:20210515
DTSTAMP:20260425T181358
CREATED:20200817T184404Z
LAST-MODIFIED:20200817T184404Z
UID:4573-1620864000-1621036799@kristofferskolan.se
SUMMARY:Kristi himmelsfärdlov
DESCRIPTION:
URL:https://kristofferskolan.se/kalendarium/kristi-himmelsfardlov/
END:VEVENT
BEGIN:VEVENT
DTSTART;VALUE=DATE:20210611
DTEND;VALUE=DATE:20210612
DTSTAMP:20260425T181358
CREATED:20200817T184443Z
LAST-MODIFIED:20200817T184443Z
UID:4575-1623369600-1623455999@kristofferskolan.se
SUMMARY:Skolavslutning
DESCRIPTION:
URL:https://kristofferskolan.se/kalendarium/skolavslutning-3/
END:VEVENT
BEGIN:VEVENT
DTSTART;VALUE=DATE:20210818
DTEND;VALUE=DATE:20210819
DTSTAMP:20260425T181358
CREATED:20210628T115246Z
LAST-MODIFIED:20210816T171655Z
UID:5096-1629244800-1629331199@kristofferskolan.se
SUMMARY:Skolstart
DESCRIPTION:Elever i årskurs 7-9 börjar klockan 9.00 och \ngymnasiet börjar klockan 11.00. \nInfo om tider för upprop i årskurs 0-6 fås av respektive klasslärare.
URL:https://kristofferskolan.se/kalendarium/skolstart-4/
END:VEVENT
BEGIN:VEVENT
DTSTART;VALUE=DATE:20210906
DTEND;VALUE=DATE:20210914
DTSTAMP:20260425T181358
CREATED:20210816T162853Z
LAST-MODIFIED:20210816T165328Z
UID:5111-1630886400-1631577599@kristofferskolan.se
SUMMARY:Skolfotografering
DESCRIPTION:Närmare info om specifika tider när de olika klasserna ska fotograferas fås från respektive klasslärare i åk 0-9 och klassföreståndare i åk 10-12.
URL:https://kristofferskolan.se/kalendarium/skolfotografering/
END:VEVENT
BEGIN:VEVENT
DTSTART;VALUE=DATE:20210929
DTEND;VALUE=DATE:20210930
DTSTAMP:20260425T181358
CREATED:20210816T162929Z
LAST-MODIFIED:20210816T164108Z
UID:5113-1632873600-1632959999@kristofferskolan.se
SUMMARY:Mikaeli
DESCRIPTION:
URL:https://kristofferskolan.se/kalendarium/mikaeli/
END:VEVENT
BEGIN:VEVENT
DTSTART;VALUE=DATE:20211004
DTEND;VALUE=DATE:20211005
DTSTAMP:20260425T181358
CREATED:20210816T163009Z
LAST-MODIFIED:20210816T163009Z
UID:5115-1633305600-1633391999@kristofferskolan.se
SUMMARY:Studiedag
DESCRIPTION:
URL:https://kristofferskolan.se/kalendarium/studiedag-8/
END:VEVENT
BEGIN:VEVENT
DTSTART;VALUE=DATE:20211011
DTEND;VALUE=DATE:20211016
DTSTAMP:20260425T181358
CREATED:20210816T163116Z
LAST-MODIFIED:20210816T163116Z
UID:5117-1633910400-1634342399@kristofferskolan.se
SUMMARY:Programvecka gymnasiet vecka 41
DESCRIPTION:
URL:https://kristofferskolan.se/kalendarium/programvecka-gymnasiet-vecka-41/
END:VEVENT
BEGIN:VEVENT
DTSTART;TZID=Europe/Stockholm:20211022T190000
DTEND;TZID=Europe/Stockholm:20211022T210000
DTSTAMP:20260425T181358
CREATED:20211022T065008Z
LAST-MODIFIED:20211024T083705Z
UID:5230-1634929200-1634936400@kristofferskolan.se
SUMMARY:Oliver Twist av Charles Dickens med klass 8C Välkomna!
DESCRIPTION:8C visar sin pjäs Oliwer Twist av Charles Dickens \nFredag 22/10 klockan 19.00 \nSöndag 24/10 klockan 14.00 och 17.00
URL:https://kristofferskolan.se/kalendarium/oliver-twist-av-charles-dickens-med-8c-valkomna/
END:VEVENT
BEGIN:VEVENT
DTSTART;TZID=Europe/Stockholm:20211024T140000
DTEND;TZID=Europe/Stockholm:20211024T160000
DTSTAMP:20260425T181358
CREATED:20211022T065123Z
LAST-MODIFIED:20211024T083642Z
UID:5233-1635084000-1635091200@kristofferskolan.se
SUMMARY:Oliwer Twist
DESCRIPTION:8C visar sin pjäs Oliwer Twist av Charles Dickens \nFredag 22/10 klockan 19.00 \nSöndag 24/10 klockan 14.00 och 17.00
URL:https://kristofferskolan.se/kalendarium/oliwer-twist/
END:VEVENT
BEGIN:VEVENT
DTSTART;TZID=Europe/Stockholm:20211024T170000
DTEND;TZID=Europe/Stockholm:20211024T190000
DTSTAMP:20260425T181358
CREATED:20211022T065208Z
LAST-MODIFIED:20211024T083615Z
UID:5235-1635094800-1635102000@kristofferskolan.se
SUMMARY:Oliver Twist
DESCRIPTION:8C visar sin pjäs Oliwer Twist av Charles Dickens \nFredag 22/10 klockan 19.00 \nSöndag 24/10 klockan 14.00 och 17.00
URL:https://kristofferskolan.se/kalendarium/oliver-twist/
END:VEVENT
BEGIN:VEVENT
DTSTART;VALUE=DATE:20211027
DTEND;VALUE=DATE:20211028
DTSTAMP:20260425T181358
CREATED:20211019T062116Z
LAST-MODIFIED:20211019T062116Z
UID:5219-1635292800-1635379199@kristofferskolan.se
SUMMARY:Halv studiedag
DESCRIPTION:
URL:https://kristofferskolan.se/kalendarium/halv-studiedag-5/
END:VEVENT
BEGIN:VEVENT
DTSTART;VALUE=DATE:20211101
DTEND;VALUE=DATE:20211106
DTSTAMP:20260425T181358
CREATED:20210816T163221Z
LAST-MODIFIED:20210816T163221Z
UID:5119-1635724800-1636156799@kristofferskolan.se
SUMMARY:Höstlov vecka 44
DESCRIPTION:
URL:https://kristofferskolan.se/kalendarium/hostlov-vecka-44-4/
END:VEVENT
BEGIN:VEVENT
DTSTART;VALUE=DATE:20211109
DTEND;VALUE=DATE:20211110
DTSTAMP:20260425T181358
CREATED:20211019T062200Z
LAST-MODIFIED:20211019T062200Z
UID:5221-1636416000-1636502399@kristofferskolan.se
SUMMARY:Halv studiedag
DESCRIPTION:
URL:https://kristofferskolan.se/kalendarium/halv-studiedag-6/
END:VEVENT
BEGIN:VEVENT
DTSTART;VALUE=DATE:20211120
DTEND;VALUE=DATE:20211122
DTSTAMP:20260425T181358
CREATED:20210902T094343Z
LAST-MODIFIED:20211116T125755Z
UID:5156-1637366400-1637539199@kristofferskolan.se
SUMMARY:Novemberfesten klockan 12-17
DESCRIPTION:
URL:https://kristofferskolan.se/kalendarium/novemberfest-4/
END:VEVENT
END:VCALENDAR