BEGIN:VCALENDAR
VERSION:2.0
PRODID:-//Kristofferskolan - ECPv6.15.13//NONSGML v1.0//EN
CALSCALE:GREGORIAN
METHOD:PUBLISH
X-ORIGINAL-URL:https://kristofferskolan.se
X-WR-CALDESC:Händelser för Kristofferskolan
REFRESH-INTERVAL;VALUE=DURATION:PT1H
X-Robots-Tag:noindex
X-PUBLISHED-TTL:PT1H
BEGIN:VTIMEZONE
TZID:Europe/Stockholm
BEGIN:DAYLIGHT
TZOFFSETFROM:+0100
TZOFFSETTO:+0200
TZNAME:CEST
DTSTART:20190331T010000
END:DAYLIGHT
BEGIN:STANDARD
TZOFFSETFROM:+0200
TZOFFSETTO:+0100
TZNAME:CET
DTSTART:20191027T010000
END:STANDARD
BEGIN:DAYLIGHT
TZOFFSETFROM:+0100
TZOFFSETTO:+0200
TZNAME:CEST
DTSTART:20200329T010000
END:DAYLIGHT
BEGIN:STANDARD
TZOFFSETFROM:+0200
TZOFFSETTO:+0100
TZNAME:CET
DTSTART:20201025T010000
END:STANDARD
BEGIN:DAYLIGHT
TZOFFSETFROM:+0100
TZOFFSETTO:+0200
TZNAME:CEST
DTSTART:20210328T010000
END:DAYLIGHT
BEGIN:STANDARD
TZOFFSETFROM:+0200
TZOFFSETTO:+0100
TZNAME:CET
DTSTART:20211031T010000
END:STANDARD
BEGIN:DAYLIGHT
TZOFFSETFROM:+0100
TZOFFSETTO:+0200
TZNAME:CEST
DTSTART:20220327T010000
END:DAYLIGHT
BEGIN:STANDARD
TZOFFSETFROM:+0200
TZOFFSETTO:+0100
TZNAME:CET
DTSTART:20221030T010000
END:STANDARD
END:VTIMEZONE
BEGIN:VEVENT
DTSTART;TZID=Europe/Stockholm:20200206T170000
DTEND;TZID=Europe/Stockholm:20200206T190000
DTSTAMP:20260425T164123
CREATED:20190814T180456Z
LAST-MODIFIED:20190814T180456Z
UID:3732-1581008400-1581015600@kristofferskolan.se
SUMMARY:Öppet hus
DESCRIPTION:
URL:https://kristofferskolan.se/kalendarium/oppet-hus-8/
END:VEVENT
BEGIN:VEVENT
DTSTART;TZID=Europe/Stockholm:20200207T190000
DTEND;TZID=Europe/Stockholm:20200207T210000
DTSTAMP:20260425T164123
CREATED:20200127T151124Z
LAST-MODIFIED:20200127T151124Z
UID:4162-1581102000-1581109200@kristofferskolan.se
SUMMARY:12A presenterar: Avståndet mellan vagn och plattform\, en pjäs av Kristian Hallberg.
DESCRIPTION:
URL:https://kristofferskolan.se/kalendarium/12a-presenterar-avstandet-mellan-vagn-och-plattform-en-pjas-av-kristian-hallberg/
END:VEVENT
BEGIN:VEVENT
DTSTART;TZID=Europe/Stockholm:20200208T180000
DTEND;TZID=Europe/Stockholm:20200208T200000
DTSTAMP:20260425T164123
CREATED:20200127T151307Z
LAST-MODIFIED:20200127T151307Z
UID:4164-1581184800-1581192000@kristofferskolan.se
SUMMARY:12A Avståndet mellan vagn och plattform
DESCRIPTION:
URL:https://kristofferskolan.se/kalendarium/12a-avstandet-mellan-vagn-och-plattform/
END:VEVENT
BEGIN:VEVENT
DTSTART;TZID=Europe/Stockholm:20200209T140000
DTEND;TZID=Europe/Stockholm:20200209T160000
DTSTAMP:20260425T164123
CREATED:20200127T151437Z
LAST-MODIFIED:20200127T151437Z
UID:4166-1581256800-1581264000@kristofferskolan.se
SUMMARY:12A Avståndet mellan vagn och plattform
DESCRIPTION:
URL:https://kristofferskolan.se/kalendarium/12a-avstandet-mellan-vagn-och-plattform-2/
END:VEVENT
BEGIN:VEVENT
DTSTART;VALUE=DATE:20200210
DTEND;VALUE=DATE:20200222
DTSTAMP:20260425T164123
CREATED:20190814T180616Z
LAST-MODIFIED:20190814T180616Z
UID:3734-1581292800-1582329599@kristofferskolan.se
SUMMARY:Temaveckor åk 9-12 vecka 7 och 8
DESCRIPTION:
URL:https://kristofferskolan.se/kalendarium/temaveckor-ak-9-12-vecka-7-och-8/
END:VEVENT
BEGIN:VEVENT
DTSTART;TZID=Europe/Stockholm:20200219T180000
DTEND;TZID=Europe/Stockholm:20200219T200000
DTSTAMP:20260425T164123
CREATED:20191216T153223Z
LAST-MODIFIED:20191216T153739Z
UID:4109-1582135200-1582142400@kristofferskolan.se
SUMMARY:Kristofferskolans Föräldraförening bjuder till öppet möte
DESCRIPTION:Kristofferskolans Föräldraförening bjuder till öppet möte \ni caféet klockan 18.00.
URL:https://kristofferskolan.se/kalendarium/kristofferskolans-foraldraforening-bjuder-till-oppet-mote/
END:VEVENT
BEGIN:VEVENT
DTSTART;VALUE=DATE:20200224
DTEND;VALUE=DATE:20200229
DTSTAMP:20260425T164123
CREATED:20190814T180755Z
LAST-MODIFIED:20190910T205042Z
UID:3736-1582502400-1582934399@kristofferskolan.se
SUMMARY:Sportlov vecka 9
DESCRIPTION:
URL:https://kristofferskolan.se/kalendarium/sportlov-vecka-9-3/
END:VEVENT
BEGIN:VEVENT
DTSTART;VALUE=DATE:20200305
DTEND;VALUE=DATE:20200307
DTSTAMP:20260425T164123
CREATED:20190814T181106Z
LAST-MODIFIED:20200313T092739Z
UID:3738-1583366400-1583539199@kristofferskolan.se
SUMMARY:Redovisning av enskilt arbete/Gymnasiearbete 12A vecka 10
DESCRIPTION:
URL:https://kristofferskolan.se/kalendarium/arsredovisning-12a-vecka-10/
END:VEVENT
BEGIN:VEVENT
DTSTART;VALUE=DATE:20200312
DTEND;VALUE=DATE:20200314
DTSTAMP:20260425T164123
CREATED:20190814T181205Z
LAST-MODIFIED:20200313T092722Z
UID:3740-1583971200-1584143999@kristofferskolan.se
SUMMARY:Redovisning av enskilt arbete/Gymnasiearbete 12B vecka 11
DESCRIPTION:
URL:https://kristofferskolan.se/kalendarium/arsredovisning-12b-vecka-11/
END:VEVENT
BEGIN:VEVENT
DTSTART;VALUE=DATE:20200316
DTEND;VALUE=DATE:20200317
DTSTAMP:20260425T164123
CREATED:20190814T181447Z
LAST-MODIFIED:20190814T181447Z
UID:3744-1584316800-1584403199@kristofferskolan.se
SUMMARY:Programdag gymnasiet
DESCRIPTION:
URL:https://kristofferskolan.se/kalendarium/programdag-gymnasiet-6/
END:VEVENT
BEGIN:VEVENT
DTSTART;TZID=Europe/Stockholm:20200317T183000
DTEND;TZID=Europe/Stockholm:20200317T200000
DTSTAMP:20260425T164123
CREATED:20200317T102103Z
LAST-MODIFIED:20200317T102103Z
UID:4303-1584469800-1584475200@kristofferskolan.se
SUMMARY:Styrelsens vårmöte inställt!!
DESCRIPTION:
URL:https://kristofferskolan.se/kalendarium/styrelsens-varmote-installt/
END:VEVENT
BEGIN:VEVENT
DTSTART;TZID=Europe/Stockholm:20200319T160000
DTEND;TZID=Europe/Stockholm:20200319T173000
DTSTAMP:20260425T164123
CREATED:20200314T084241Z
LAST-MODIFIED:20200314T084241Z
UID:4286-1584633600-1584639000@kristofferskolan.se
SUMMARY:Obs! Antagningsworkshop för sökande till gymnasiet inställt!!
DESCRIPTION:Vi ställer in vår antagningsworkshop på torsdag 19.3. för sökande till vårt gymnasium. Vidare information kommer.
URL:https://kristofferskolan.se/kalendarium/obs-antagningsworkshop-sokande-till-gymnasiet-installt/
END:VEVENT
BEGIN:VEVENT
DTSTART;VALUE=DATE:20200324
DTEND;VALUE=DATE:20200325
DTSTAMP:20260425T164123
CREATED:20190814T181401Z
LAST-MODIFIED:20190814T181401Z
UID:3742-1585008000-1585094399@kristofferskolan.se
SUMMARY:Programdag gymnasiet
DESCRIPTION:
URL:https://kristofferskolan.se/kalendarium/programdag-gymnasiet-5/
END:VEVENT
BEGIN:VEVENT
DTSTART;VALUE=DATE:20200326
DTEND;VALUE=DATE:20200327
DTSTAMP:20260425T164123
CREATED:20200325T133920Z
LAST-MODIFIED:20200325T133920Z
UID:4356-1585180800-1585267199@kristofferskolan.se
SUMMARY:Sista inlämningsdagen för sökande till Kristofferskolans gymnasium
DESCRIPTION:KRISTOFFERSKOLANS GYMNASIUM\n  \nNytt antagningsprov till gymnasiet:\nInlämningsdatum 26/3 för alla sökande till Kristofferskolans gymnasium\n  \nI år har vi strukit de workshops som vanligen ligger som en del av antagningsproven till gymnasiet. Den bilduppgift vi tidigare har meddelat kompletteras därför med en ny foto-uppgift: \n  \nDu ska ta tre foton på temat Människa – Miljö (du är fri att tolka begreppen som du vill\, miljö kan vara inomhusmiljö/utomhusmiljö\, klimatrelaterat/personligt\, det du ser i ditt rum eller från ditt fönster). \n  \nDessa foton ska på något sätt hänga ihop. Du skickar dem i jpg-format till intagning@kristofferskolan.se ihop med en beskrivande på 50-200 ord som förklarar hur du valt ut bilderna och vad de har med varandra att göra. \n  \nMejlet ska ha rubriken Fotouppgift! I mejlet behöver namnet på den sökande framgå tydligt. Bilderna skrivs sedan ut och märks på baksidan av \npersonal på skolan\, för att sedan kunna bedömas anonymiserat. \n  \nAntagningsprovet innehåller i år för alla tre programmen alltså följande delar:\n\n– En fotouppgift bestående av tre foton plus en beskrivande text som mejlas till intagning@kristofferskolan.se​\n\n– En bilduppgift som lämnas på Kristofferskolans kansli eller postas till Kristofferskolan\, Marklandsbacken 11\, 16836\, Bromma senast 24/3.\nOBS! Vid behov kan även denna uppgift skickas in i jpg-format till intagning@kristofferskolan.se\, då som bilaga till mejlet Fotouppgift! \n  \n  \nInstruktionen till bilduppgiften ser som tidigare meddelat ut såhär: \n  \nInlämningsuppgift \nDin uppgift är att göra en bild\, en tolkning\, utifrån textutdraget (se nedan) i valfri tvådimensionell teknik\, t.ex. teckning\, målning\, collage\, grafik etc. \n  \nBilden kan vara en illustration av texten eller en fri tolkning. Minimiformat A3\, maxformat 50×70 cm. OBS! Skriv ditt namn på baksidan av bilden\, då provet skall bedömas anonymiserat. \n  \nUr Aniara – Harry Martinson \n  \nJag skall berätta vad jag hört om glas \noch då skall ni förstå. I varje glas \nsom står tillräckligt länge oberört \nförflyttas glasets blåsa efterhand \noändligt sakta mot en annan punkt \ni glasets kropp och efter tusen år \nhar blåsan gjort en resa i sitt glas. \n  \nPå samma sätt i en oändlig rymd \ndär svalg av ljusårs djup sin välvning slår \nkring blåsan Aniara där hon går. \nTy fastän farten som hon går är stor \noch mycket högre än en snabb planets \när hennes hastighet med rymdmått sedd \npå pricken svarande mot den vi vet \natt blåsan gör i denna skål av glas. \n***
URL:https://kristofferskolan.se/kalendarium/sista-inlamningsdagen-sokande-till-kristofferskolans-gymnasium/
END:VEVENT
BEGIN:VEVENT
DTSTART;VALUE=DATE:20200406
DTEND;VALUE=DATE:20200414
DTSTAMP:20260425T164123
CREATED:20190814T181641Z
LAST-MODIFIED:20190910T205230Z
UID:3748-1586131200-1586822399@kristofferskolan.se
SUMMARY:Påsklov vecka 15
DESCRIPTION:
URL:https://kristofferskolan.se/kalendarium/pasklov/
END:VEVENT
BEGIN:VEVENT
DTSTART;VALUE=DATE:20200501
DTEND;VALUE=DATE:20200502
DTSTAMP:20260425T164123
CREATED:20190814T181740Z
LAST-MODIFIED:20190814T182005Z
UID:3750-1588291200-1588377599@kristofferskolan.se
SUMMARY:Första maj (ledigt)
DESCRIPTION:
URL:https://kristofferskolan.se/kalendarium/forsta-maj-ledigt/
END:VEVENT
BEGIN:VEVENT
DTSTART;TZID=Europe/Stockholm:20200513T180000
DTEND;TZID=Europe/Stockholm:20200513T200000
DTSTAMP:20260425T164123
CREATED:20191216T153334Z
LAST-MODIFIED:20200512T173313Z
UID:4111-1589392800-1589400000@kristofferskolan.se
SUMMARY:OBS! Kristofferskolans Föräldraföreningens öppet möte Inställt!
DESCRIPTION:Kristofferskolans Föräldraföreningens öppet möte INSTÄLLT!! \n 
URL:https://kristofferskolan.se/kalendarium/kristofferskolans-foraldraforening-bjuder-till-oppet-mote-2/
END:VEVENT
BEGIN:VEVENT
DTSTART;VALUE=DATE:20200521
DTEND;VALUE=DATE:20200523
DTSTAMP:20260425T164123
CREATED:20190814T181836Z
LAST-MODIFIED:20190814T181836Z
UID:3752-1590019200-1590191999@kristofferskolan.se
SUMMARY:Kristi Himmelsfärdslov
DESCRIPTION:
URL:https://kristofferskolan.se/kalendarium/kristi-himmelsfardslov-3/
END:VEVENT
BEGIN:VEVENT
DTSTART;VALUE=DATE:20200609
DTEND;VALUE=DATE:20200610
DTSTAMP:20260425T164123
CREATED:20190814T181923Z
LAST-MODIFIED:20190814T181935Z
UID:3754-1591660800-1591747199@kristofferskolan.se
SUMMARY:Skolavslutning
DESCRIPTION:
URL:https://kristofferskolan.se/kalendarium/skolavslutning-2/
END:VEVENT
BEGIN:VEVENT
DTSTART;VALUE=DATE:20200819
DTEND;VALUE=DATE:20200820
DTSTAMP:20260425T164123
CREATED:20200505T083207Z
LAST-MODIFIED:20200505T083207Z
UID:4409-1597795200-1597881599@kristofferskolan.se
SUMMARY:Upprop/Skolstart
DESCRIPTION:
URL:https://kristofferskolan.se/kalendarium/uppropskolstart/
END:VEVENT
BEGIN:VEVENT
DTSTART;TZID=Europe/Stockholm:20200831T080000
DTEND;TZID=Europe/Stockholm:20200907T170000
DTSTAMP:20260425T164123
CREATED:20200817T182347Z
LAST-MODIFIED:20200817T184847Z
UID:4537-1598860800-1599498000@kristofferskolan.se
SUMMARY:Skolfotografering
DESCRIPTION:
URL:https://kristofferskolan.se/kalendarium/skolfotografering-31-augusti-7-september/
END:VEVENT
BEGIN:VEVENT
DTSTART;VALUE=DATE:20200929
DTEND;VALUE=DATE:20200930
DTSTAMP:20260425T164123
CREATED:20200817T182434Z
LAST-MODIFIED:20200918T100345Z
UID:4539-1601337600-1601423999@kristofferskolan.se
SUMMARY:Mikaelifest
DESCRIPTION:Mikaelifirandet ser annorlunda ut i år pga covid-19. Mera info för åk 1-9 från klasslärare och 10-12 från klassföreståndare.
URL:https://kristofferskolan.se/kalendarium/mikaelifest-3/
END:VEVENT
BEGIN:VEVENT
DTSTART;VALUE=DATE:20201020
DTEND;VALUE=DATE:20201021
DTSTAMP:20260425T164123
CREATED:20200817T182534Z
LAST-MODIFIED:20200817T182534Z
UID:4541-1603152000-1603238399@kristofferskolan.se
SUMMARY:Halv studiedag
DESCRIPTION:
URL:https://kristofferskolan.se/kalendarium/halv-studiedag/
END:VEVENT
BEGIN:VEVENT
DTSTART;VALUE=DATE:20201102
DTEND;VALUE=DATE:20201103
DTSTAMP:20260425T164123
CREATED:20200817T182616Z
LAST-MODIFIED:20200817T182616Z
UID:4543-1604275200-1604361599@kristofferskolan.se
SUMMARY:Halv studiedag
DESCRIPTION:
URL:https://kristofferskolan.se/kalendarium/halv-studiedag-2/
END:VEVENT
BEGIN:VEVENT
DTSTART;VALUE=DATE:20201121
DTEND;VALUE=DATE:20201123
DTSTAMP:20260425T164123
CREATED:20200817T182711Z
LAST-MODIFIED:20200921T145248Z
UID:4545-1605916800-1606089599@kristofferskolan.se
SUMMARY:Novemberfesten Är skjuten på framtiden - vi avvaktar covid-19 utvecklingen och återkommer med nytt datum!
DESCRIPTION:
URL:https://kristofferskolan.se/kalendarium/novemberfesten-3/
END:VEVENT
BEGIN:VEVENT
DTSTART;VALUE=DATE:20201123
DTEND;VALUE=DATE:20201124
DTSTAMP:20260425T164123
CREATED:20200817T182747Z
LAST-MODIFIED:20200817T182747Z
UID:4547-1606089600-1606175999@kristofferskolan.se
SUMMARY:Studiedag
DESCRIPTION:
URL:https://kristofferskolan.se/kalendarium/studiedag-7/
END:VEVENT
BEGIN:VEVENT
DTSTART;VALUE=DATE:20201126
DTEND;VALUE=DATE:20201127
DTSTAMP:20260425T164123
CREATED:20200817T182835Z
LAST-MODIFIED:20201125T104825Z
UID:4549-1606348800-1606435199@kristofferskolan.se
SUMMARY:OBS!  På grund av rådande omständigheter sker inget Öppet hus digitalt. Detta sker vid ett senare tillfälle. Information publiceras på hemsidan när mer information finns. Öppet hus sker fysiskt 26 november för Kristofferskolans elever i årskurs 9.
DESCRIPTION:Obs! \nPå grund av rådande omständigheter sker inget Öppet hus digitalt. Detta sker vid ett senare tillfälle. Information publiceras på hemsidan när mer information finns. Öppet hus sker fysiskt 26 november för Kristofferskolans elever i årskurs 9.\n 
URL:https://kristofferskolan.se/kalendarium/oppet-hus-9/
END:VEVENT
BEGIN:VEVENT
DTSTART;VALUE=DATE:20201211
DTEND;VALUE=DATE:20201212
DTSTAMP:20260425T164123
CREATED:20200817T182918Z
LAST-MODIFIED:20200817T182918Z
UID:4551-1607644800-1607731199@kristofferskolan.se
SUMMARY:Luciafirande
DESCRIPTION:
URL:https://kristofferskolan.se/kalendarium/luciafirande-3/
END:VEVENT
BEGIN:VEVENT
DTSTART;VALUE=DATE:20201218
DTEND;VALUE=DATE:20201219
DTSTAMP:20260425T164123
CREATED:20200817T182949Z
LAST-MODIFIED:20200817T185027Z
UID:4553-1608249600-1608335999@kristofferskolan.se
SUMMARY:Julavslutning
DESCRIPTION:
URL:https://kristofferskolan.se/kalendarium/julavslutning-4/
END:VEVENT
BEGIN:VEVENT
DTSTART;TZID=Europe/Stockholm:20210111T080000
DTEND;TZID=Europe/Stockholm:20210111T170000
DTSTAMP:20260425T164123
CREATED:20200817T183129Z
LAST-MODIFIED:20200817T183129Z
UID:4555-1610352000-1610384400@kristofferskolan.se
SUMMARY:Vårterminen börjar
DESCRIPTION:
URL:https://kristofferskolan.se/kalendarium/varterminen-borjar-3/
END:VEVENT
END:VCALENDAR