BEGIN:VCALENDAR
VERSION:2.0
PRODID:-//Kristofferskolan - ECPv6.15.13//NONSGML v1.0//EN
CALSCALE:GREGORIAN
METHOD:PUBLISH
X-WR-CALNAME:Kristofferskolan
X-ORIGINAL-URL:https://kristofferskolan.se
X-WR-CALDESC:Händelser för Kristofferskolan
REFRESH-INTERVAL;VALUE=DURATION:PT1H
X-Robots-Tag:noindex
X-PUBLISHED-TTL:PT1H
BEGIN:VTIMEZONE
TZID:Europe/Stockholm
BEGIN:DAYLIGHT
TZOFFSETFROM:+0100
TZOFFSETTO:+0200
TZNAME:CEST
DTSTART:20180325T010000
END:DAYLIGHT
BEGIN:STANDARD
TZOFFSETFROM:+0200
TZOFFSETTO:+0100
TZNAME:CET
DTSTART:20181028T010000
END:STANDARD
BEGIN:DAYLIGHT
TZOFFSETFROM:+0100
TZOFFSETTO:+0200
TZNAME:CEST
DTSTART:20190331T010000
END:DAYLIGHT
BEGIN:STANDARD
TZOFFSETFROM:+0200
TZOFFSETTO:+0100
TZNAME:CET
DTSTART:20191027T010000
END:STANDARD
BEGIN:DAYLIGHT
TZOFFSETFROM:+0100
TZOFFSETTO:+0200
TZNAME:CEST
DTSTART:20200329T010000
END:DAYLIGHT
BEGIN:STANDARD
TZOFFSETFROM:+0200
TZOFFSETTO:+0100
TZNAME:CET
DTSTART:20201025T010000
END:STANDARD
END:VTIMEZONE
BEGIN:VEVENT
DTSTART;TZID=Europe/Stockholm:20191219T100000
DTEND;TZID=Europe/Stockholm:20191219T120000
DTSTAMP:20260425T222259
CREATED:20190814T180124Z
LAST-MODIFIED:20191216T161431Z
UID:3726-1576749600-1576756800@kristofferskolan.se
SUMMARY:Julavslutning
DESCRIPTION:Program för julavslutningen\n\nOrkester spelar till den gemensamma sången Nu tändas tusen juleljus\n \n9b visar eurytmi till Marche Funébre av Chopin \n \nKlass 3b framför en instrumental låt\n \nEurytmi av klass 5a och c \n \nKlass 1 sjunger The happiest Christmas tree och Det strålar en stjärna\n \nÅrets Pepparkakshustävling presenteras\n\n \nKlass 5A och klass 4A dansar och spelar tillsammans!\n \nKlass 6C framför eurytmi\, till stycket  ”Time Lapse” av Michael Nyman.. 2\,5 min långt (Mervin och Helena)\n \nKlass 3a gestaltar en del av Skapelseberättelsen\n\n \nGymnasiekören sjunger:\n– In this heart – Sinnead O’Connor  (4 minuter)\n– Det är en ros utsprungen \n(sjungs även av hela salen)
URL:https://kristofferskolan.se/kalendarium/julavslutning-3/
END:VEVENT
END:VCALENDAR